{"text_format":"3","workbook":"xlsx","n_sheets":1,"sheets":["1"],"not_rendered":{"external_links":2},"read":"whole","date_system":"1900"}

{"sheet":"1","index":0,"n_rows":20,"n_cols":10,"rows_kept":20,"merged":[[0,1,0,3]]}
["Школа","МБОУ СОШ с. Миништы",null,null,"Отд./корп",{"$nulls":3},"День","2021-09-06"]
[]
["Прием пищи","Раздел","№ рец.","Блюдо","Выход, г","Цена","Калорийность","Белки","Жиры","Углеводы"]
["Завтрак","гор.блюдо",{"$f":"[1]TDSheet!A124","v":0},{"$f":"[1]TDSheet!B124","v":"Котлеты куриные с соусом"},90,{"v":29.4,"d":"29.40"},{"v":129,"d":"129.00"},{"$f":"[1]TDSheet!E124","v":{"v":8.1,"d":"8.10"}},{"$f":"[1]TDSheet!F124","v":{"v":7.4,"d":"7.40"}},{"$f":"[1]TDSheet!G124","v":{"v":8.9,"d":"8.90"}}]
[null,"гор.напиток",{"$f":"[1]TDSheet!A125","v":211.56},{"$f":"[1]TDSheet!B125","v":"Макаронные изделия отварные"},150,5.34,283.91,{"$f":"[1]TDSheet!E125","v":9.43},{"$f":"[1]TDSheet!F125","v":12.55},{"$f":"[1]TDSheet!G125","v":33.06}]
[null,"хлеб",{"$f":"[1]TDSheet!A126","v":282.11},{"$f":"[1]TDSheet!B126","v":"Чай  с сахаром"},200,1.77,{"v":39,"d":"39.00"},{"$f":"[1]TDSheet!E126","v":{"v":0,"d":"0.00"}},{"$f":"[1]TDSheet!F126","v":{"v":0,"d":"0.00"}},{"$f":"[1]TDSheet!G126","v":{"v":9.7,"d":"9.70"}}]
[null,null,{"$f":"[1]TDSheet!A127","v":420.06},{"$f":"[1]TDSheet!B127","v":"Хлеб пшеничный обогащенный витаминами для детского питания "},55,{"v":2.3,"d":"2.30"},{"v":130,"d":"130.00"},{"$f":"[1]TDSheet!E127","v":{"v":4,"d":"4.00"}},{"$f":"[1]TDSheet!F127","v":{"v":0.5,"d":"0.50"}},{"$f":"[1]TDSheet!G127","v":{"v":27.5,"d":"27.50"}}]
[null,null,{"$f":"[1]TDSheet!A128","v":401.08},{"$f":"[1]TDSheet!B128","v":"Масло сливочное "},10,4.05,52.88,{"$f":"[1]TDSheet!E128","v":0.06},{"$f":"[1]TDSheet!F128","v":{"v":5.8,"d":"5.80"}},{"$f":"[1]TDSheet!G128","v":{"v":0.1,"d":"0.10"}}]
[{"$nulls":3},"Пряники",100,{"v":10.7,"d":"10.70"},{"$f":"'[2]1'!G10","v":{"v":148.33333333333334,"d":"148.33"}},{"$f":"'[2]1'!H10","v":{"v":7.5,"d":"7.50"}},{"$f":"'[2]1'!I10","v":{"v":29.5,"d":"29.50"}},{"$f":"'[2]1'!J10","v":{"v":39.8,"d":"39.80"}}]
[{"$nulls":3},"Итого:",{"$f":"SUM(E4:E9)","v":{"v":605,"d":"605.00"}},{"v":53.55999999999999,"d":"53.56"},{"v":783.1233333333334,"d":"783.12"},29.09,55.75,{"v":119.05999999999999,"d":"119.06"}]
["Завтрак 2","Фрукты"]
[]
[]
["Обед","закуска"]
[null,"1 блюдо"]
[null,"2 блюдо"]
[null,"гарнир"]
[null,"сладкое"]
[null,"хлеб бел."]
[null,"хлеб черн."]